BEGIN:VCALENDAR
VERSION:2.0
PRODID:Laredo, TX Calendar Creator
METHOD:PUBLISH
BEGIN:VEVENT
DTSTAMP:20260416T095919
DTSTART:20260425T150000
DTEND:20260425T170000
SUMMARY:Musical de Primavera
DESCRIPTION:<h3><strong>Musical de Primavera</strong></h3><p> <strong>Date/Time:&nbsp;</strong>Saturday, April 25, 2026, from 3:00 PM to 5:00 PM<b><br><strong>Location: </strong></b>Instituto Cultural Mexicano de Laredo, The Outlet Shoppes at Laredo, second floor, 1600 Water St, Laredo, TX 78040</p><p style="text-align: center;"></p>
X-ALT-DESC;FMTTYPE=text/html:<h3><strong>Musical de Primavera</strong></h3><p> <strong>Date/Time:&nbsp;</strong>Saturday, April 25, 2026, from 3:00 PM to 5:00 PM<b><br><strong>Location: </strong></b>Instituto Cultural Mexicano de Laredo, The Outlet Shoppes at Laredo, second floor, 1600 Water St, Laredo, TX 78040</p><p style="text-align: center;"></p>
LOCATION:
CLASS:PUBLIC
END:VEVENT
END:VCALENDAR
