BEGIN:VCALENDAR
VERSION:2.0
PRODID:Laredo, TX Calendar Creator
METHOD:PUBLISH
BEGIN:VEVENT
DTSTAMP:20260421T140923
DTSTART:20260430T170000
DTEND:20260430T200000
SUMMARY:Feliz Dia del Niño - Fiesta en el Parque & Ribbon Cutting Ceremony in District 8
DESCRIPTION:<p><strong>Feliz Dia del Niño - Fiesta en el Parque &amp; Ribbon Cutting Ceremony in District 8</strong><br><strong>Date/Time:</strong> Thursday, April 30, 2026, from 5:00 PM to 8:00 PM<br><strong>Location:</strong> La Ladrillera Park, 2100 Pinder Ave., Laredo, TX 78040</p><p style="text-align: center;"></p>
X-ALT-DESC;FMTTYPE=text/html:<p><strong>Feliz Dia del Niño - Fiesta en el Parque &amp; Ribbon Cutting Ceremony in District 8</strong><br><strong>Date/Time:</strong> Thursday, April 30, 2026, from 5:00 PM to 8:00 PM<br><strong>Location:</strong> La Ladrillera Park, 2100 Pinder Ave., Laredo, TX 78040</p><p style="text-align: center;"></p>
LOCATION:
CLASS:PUBLIC
END:VEVENT
END:VCALENDAR
