BEGIN:VCALENDAR
VERSION:2.0
PRODID:Laredo, TX Calendar Creator
METHOD:PUBLISH
BEGIN:VEVENT
DTSTAMP:20260409T164150
DTSTART:20260424T100000
DTEND:20260424T110000
SUMMARY:Earth Day Proclamation
DESCRIPTION:<h3><strong>Earth Day&nbsp;Proclamation</strong></h3><p><strong>Date/Time: </strong>Friday, April 24, 2026, at 10:00 AM<b><br><strong>Location: </strong></b>City Hall Council Chambers, 1110 Houston St.,&nbsp;Laredo, TX 78040</p><p style="text-align: center;">&nbsp;</p>
X-ALT-DESC;FMTTYPE=text/html:<h3><strong>Earth Day&nbsp;Proclamation</strong></h3><p><strong>Date/Time: </strong>Friday, April 24, 2026, at 10:00 AM<b><br><strong>Location: </strong></b>City Hall Council Chambers, 1110 Houston St.,&nbsp;Laredo, TX 78040</p><p style="text-align: center;">&nbsp;</p>
LOCATION:
CLASS:PUBLIC
END:VEVENT
END:VCALENDAR
