BEGIN:VCALENDAR
VERSION:2.0
PRODID:Laredo, TX Calendar Creator
METHOD:PUBLISH
BEGIN:VEVENT
DTSTAMP:20260409T163924
DTSTART:20260423T100000
DTEND:20260423T110000
SUMMARY:Laredo Area CPS Rainbow Room Proclamation
DESCRIPTION:<h3><strong>Laredo Area CPS Rainbow Room&nbsp;Proclamation</strong></h3><p><strong>Date/Time: </strong>Thursday, April 23, 2026, at 10:00 AM<b><br><strong>Location: </strong></b>City Hall Council Chambers, 1110 Houston St.,&nbsp;Laredo, TX 78040</p><p style="text-align: center;"></p>
X-ALT-DESC;FMTTYPE=text/html:<h3><strong>Laredo Area CPS Rainbow Room&nbsp;Proclamation</strong></h3><p><strong>Date/Time: </strong>Thursday, April 23, 2026, at 10:00 AM<b><br><strong>Location: </strong></b>City Hall Council Chambers, 1110 Houston St.,&nbsp;Laredo, TX 78040</p><p style="text-align: center;"></p>
LOCATION:
CLASS:PUBLIC
END:VEVENT
END:VCALENDAR
