BEGIN:VCALENDAR
VERSION:2.0
PRODID:Laredo, TX Calendar Creator
METHOD:PUBLISH
BEGIN:VEVENT
DTSTAMP:20260409T163552
DTSTART:20260421T100000
DTEND:20260421T110000
SUMMARY:Denim Day Proclamation
DESCRIPTION:<h3><strong>Denim Day Proclamation</strong></h3><strong>Date/Time: </strong>Tuesday, April 21, 2026, at 10:00 AM<b><br><strong>Location: </strong></b>City Hall Council Chambers, 1110 Houston St.,&nbsp;Laredo, TX 78040
X-ALT-DESC;FMTTYPE=text/html:<h3><strong>Denim Day Proclamation</strong></h3><strong>Date/Time: </strong>Tuesday, April 21, 2026, at 10:00 AM<b><br><strong>Location: </strong></b>City Hall Council Chambers, 1110 Houston St.,&nbsp;Laredo, TX 78040
LOCATION:
CLASS:PUBLIC
END:VEVENT
END:VCALENDAR
