BEGIN:VCALENDAR
VERSION:2.0
PRODID:Laredo, TX Calendar Creator
METHOD:PUBLISH
BEGIN:VEVENT
DTSTAMP:20260409T163223
DTSTART:20260420T100000
DTEND:20260420T110000
SUMMARY:Work Zone Safety Awareness Month Proclamation (TXDot)
DESCRIPTION:<h3><strong>Work Zone Safety Awareness Month Proclamation</strong></h3><strong>Date/Time: </strong>Monday, April 20, 2026, at 10:00 AM<b><br><strong>Location: </strong></b>City Hall Council Chambers, 1110 Houston St., Laredo, Texas 78040
X-ALT-DESC;FMTTYPE=text/html:<h3><strong>Work Zone Safety Awareness Month Proclamation</strong></h3><strong>Date/Time: </strong>Monday, April 20, 2026, at 10:00 AM<b><br><strong>Location: </strong></b>City Hall Council Chambers, 1110 Houston St., Laredo, Texas 78040
LOCATION:
CLASS:PUBLIC
END:VEVENT
END:VCALENDAR
