BEGIN:VCALENDAR
VERSION:2.0
PRODID:Laredo, TX Calendar Creator
METHOD:PUBLISH
BEGIN:VEVENT
DTSTAMP:20260409T162950
DTSTART:20260415T100000
DTEND:20260415T110000
SUMMARY:Quickie Bakery Mayoral Recognition
DESCRIPTION:<p><strong>Quickie Bakery Mayoral Recognition&nbsp;</strong><br><strong>Date/Time:</strong>&nbsp;Wednesday, April 15, 2026, at 10:00 AM<br><strong>Location:</strong> City Hall Council Chambers,&nbsp;<br>1110 Houston St., Laredo, Texas 78040</p><p style="text-align: center;">&nbsp;</p>
X-ALT-DESC;FMTTYPE=text/html:<p><strong>Quickie Bakery Mayoral Recognition&nbsp;</strong><br><strong>Date/Time:</strong>&nbsp;Wednesday, April 15, 2026, at 10:00 AM<br><strong>Location:</strong> City Hall Council Chambers,&nbsp;<br>1110 Houston St., Laredo, Texas 78040</p><p style="text-align: center;">&nbsp;</p>
LOCATION:
CLASS:PUBLIC
END:VEVENT
END:VCALENDAR
