BEGIN:VCALENDAR
VERSION:2.0
PRODID:Laredo, TX Calendar Creator
METHOD:PUBLISH
BEGIN:VEVENT
DTSTAMP:20260409T160727
DTSTART:20260418T080000
DTEND:20260418T120000
SUMMARY:2nd Annual Mutt Run -Spring Edition-
DESCRIPTION:<h3><strong>2nd Annual Mutt Run -Spring Edition-</strong></h3><p> <strong>Date/Time: </strong>Saturday, April 18, 2026, at 8:00 AM<br><strong>Location:</strong>&nbsp;Jovita Idar's El Progreso Park, 6002 Thomas Ave., Laredo, Texas 78040</p><p style="text-align: center;"></p>
X-ALT-DESC;FMTTYPE=text/html:<h3><strong>2nd Annual Mutt Run -Spring Edition-</strong></h3><p> <strong>Date/Time: </strong>Saturday, April 18, 2026, at 8:00 AM<br><strong>Location:</strong>&nbsp;Jovita Idar's El Progreso Park, 6002 Thomas Ave., Laredo, Texas 78040</p><p style="text-align: center;"></p>
LOCATION:
CLASS:PUBLIC
END:VEVENT
END:VCALENDAR
