BEGIN:VCALENDAR
VERSION:2.0
PRODID:Laredo, TX Calendar Creator
METHOD:PUBLISH
BEGIN:VEVENT
DTSTAMP:20260409T163841
DTSTART:20260415T000000
DTEND:20260415T235900
SUMMARY:Blue Ribbon Committee for People with Disabilities
DESCRIPTION:
X-ALT-DESC;FMTTYPE=text/html:
LOCATION:Laredo Health Auditorium\, 2600 Cedar Ave. Laredo\, Texas 78040
CLASS:PUBLIC
END:VEVENT
END:VCALENDAR
