BEGIN:VCALENDAR
VERSION:2.0
PRODID:Laredo, TX Calendar Creator
METHOD:PUBLISH
BEGIN:VEVENT
DTSTAMP:20260409T163722
DTSTART:20260416T000000
DTEND:20260416T235900
SUMMARY:Fine Arts & Culture Commission
DESCRIPTION:
X-ALT-DESC;FMTTYPE=text/html:
LOCATION:Joe A. Guerra Laredo Public Library\, 1120 E. Calton Rd. Laredo\, Texas 78041
CLASS:PUBLIC
END:VEVENT
END:VCALENDAR
