BEGIN:VCALENDAR
VERSION:2.0
PRODID:Laredo, TX Calendar Creator
METHOD:PUBLISH
BEGIN:VEVENT
DTSTAMP:20260409T163236
DTSTART:20260408T000000
DTEND:20260408T235900
SUMMARY:Laredo/Webb County Drug & Alcohol Commission
DESCRIPTION:
X-ALT-DESC;FMTTYPE=text/html:
LOCATION:Laredo Health Auditorium\, 2600 Cedar Ave. Laredo\, Texas 78040
CLASS:PUBLIC
END:VEVENT
END:VCALENDAR
