BEGIN:VCALENDAR
VERSION:2.0
PRODID:Laredo, TX Calendar Creator
METHOD:PUBLISH
BEGIN:VEVENT
DTSTAMP:20260409T163155
DTSTART:20260408T000000
DTEND:20260408T235900
SUMMARY:Rio Grande Riverfront Coordination and Advisory Ad-Hoc Committee
DESCRIPTION:
X-ALT-DESC;FMTTYPE=text/html:
LOCATION:City Hall - 1st Flr Conf Rm\, 1110 Houston Street\, 1st Floor Conference Room Laredo\, Texas 78040
CLASS:PUBLIC
END:VEVENT
END:VCALENDAR
