BEGIN:VCALENDAR
VERSION:2.0
PRODID:Laredo, TX Calendar Creator
METHOD:PUBLISH
BEGIN:VEVENT
DTSTAMP:20260331T145319
DTSTART:20260425T080000
DTEND:20260425T150000
SUMMARY:Earth Day!
DESCRIPTION:<h3><strong>Earth Day</strong></h3><p> <strong>Date/Time: </strong>Saturday, April 25, 2026, from 8:00 AM to 3:00 PM<b><br><strong>Location: </strong></b>Father McNaboe Park, 201 Zebu Ct., Laredo, Texas 78045</p><p style="text-align: center;"></p>
X-ALT-DESC;FMTTYPE=text/html:<h3><strong>Earth Day</strong></h3><p> <strong>Date/Time: </strong>Saturday, April 25, 2026, from 8:00 AM to 3:00 PM<b><br><strong>Location: </strong></b>Father McNaboe Park, 201 Zebu Ct., Laredo, Texas 78045</p><p style="text-align: center;"></p>
LOCATION:
CLASS:PUBLIC
END:VEVENT
END:VCALENDAR
