BEGIN:VCALENDAR
VERSION:2.0
PRODID:Laredo, TX Calendar Creator
METHOD:PUBLISH
BEGIN:VEVENT
DTSTAMP:20260409T163309
DTSTART:20260402T000000
DTEND:20260402T235900
SUMMARY:Civic Partnership and Engagement Committee
DESCRIPTION:
X-ALT-DESC;FMTTYPE=text/html:
LOCATION:Community Development\, 1301 Farragut St.\, 3rd Floor Conference Room Laredo\, Texas 78040
CLASS:PUBLIC
END:VEVENT
END:VCALENDAR
