BEGIN:VCALENDAR
VERSION:2.0
PRODID:Laredo, TX Calendar Creator
METHOD:PUBLISH
BEGIN:VEVENT
DTSTAMP:20260326T113859
DTSTART:20260411T110000
DTEND:20260411T150000
SUMMARY:CDBG Week - Housing & Resources Fair
DESCRIPTION:<div xat24cr="" x1lziwak="" x1vvkbs="" xtlvy1s="" x126k92a"=""><div dir="auto">The City of Laredo Community Development Department invites you to learn more about the housing programs and resources available to our community.</div></div><div xat24cr="" x1lziwak="" x1vvkbs="" xtlvy1s="" x126k92a"=""><div dir="auto">Whether you're looking for assistance with home repairs, down payment support, rental programs, or other housing opportunities, we’re here to help!</div></div><div xat24cr="" x1lziwak="" x1vvkbs="" xtlvy1s="" x126k92a"=""><div dir="auto"> Saturday, April 11, 2026</div><div dir="auto"> 11:00 AM – 3:00 PM</div><div dir="auto"> Municipal Housing – 5511 Thomas Ave.</div></div><div xat24cr="" x1lziwak="" x1vvkbs="" xtlvy1s="" x126k92a"=""><div dir="auto">From homebuyer programs to rental assistance and rehabilitation services, come learn what’s available to you!</div></div><div xat24cr="" x1lziwak="" x1vvkbs="" xtlvy1s="" x126k92a"=""><div dir="auto"> For more information: 956-795-2675</div></div><div xat24cr="" x1lziwak="" x1vvkbs="" xtlvy1s="" x126k92a"=""><div dir="auto">Free admission &amp; open to the community, we hope to see you there!</div></div><p>&nbsp;</p><p style="text-align: center;"></p>
X-ALT-DESC;FMTTYPE=text/html:<div xat24cr="" x1lziwak="" x1vvkbs="" xtlvy1s="" x126k92a"=""><div dir="auto">The City of Laredo Community Development Department invites you to learn more about the housing programs and resources available to our community.</div></div><div xat24cr="" x1lziwak="" x1vvkbs="" xtlvy1s="" x126k92a"=""><div dir="auto">Whether you're looking for assistance with home repairs, down payment support, rental programs, or other housing opportunities, we’re here to help!</div></div><div xat24cr="" x1lziwak="" x1vvkbs="" xtlvy1s="" x126k92a"=""><div dir="auto"> Saturday, April 11, 2026</div><div dir="auto"> 11:00 AM – 3:00 PM</div><div dir="auto"> Municipal Housing – 5511 Thomas Ave.</div></div><div xat24cr="" x1lziwak="" x1vvkbs="" xtlvy1s="" x126k92a"=""><div dir="auto">From homebuyer programs to rental assistance and rehabilitation services, come learn what’s available to you!</div></div><div xat24cr="" x1lziwak="" x1vvkbs="" xtlvy1s="" x126k92a"=""><div dir="auto"> For more information: 956-795-2675</div></div><div xat24cr="" x1lziwak="" x1vvkbs="" xtlvy1s="" x126k92a"=""><div dir="auto">Free admission &amp; open to the community, we hope to see you there!</div></div><p>&nbsp;</p><p style="text-align: center;"></p>
LOCATION:
CLASS:PUBLIC
END:VEVENT
END:VCALENDAR
