BEGIN:VCALENDAR
VERSION:2.0
PRODID:Laredo, TX Calendar Creator
METHOD:PUBLISH
BEGIN:VEVENT
DTSTAMP:20260409T155538
DTSTART:20260411T000100
DTEND:20260411T100000
SUMMARY:POSTPONED -- Family Night Under the Stars
DESCRIPTION:<h3></h3><h5><div x14z9mp="" xat24cr="" x1lziwak="" x1vvkbs="" x126k92a"=""><p dir="auto">POSTPONED -- Family Night Under the Stars</p><p dir="auto">Attention</p></div><div xat24cr="" x1lziwak="" x1vvkbs="" xtlvy1s="" x126k92a"=""><p dir="auto">Due to weather conditions, the 6th Annual Family Night Under the Stars, originally scheduled from Friday, April 10 through Saturday, April 11, has been postponed.</p></div><div xat24cr="" x1lziwak="" x1vvkbs="" xtlvy1s="" x126k92a"=""><p dir="auto">We will keep the community informed of the new date. Thank you for your patience.</p></div></h5><p><div xat24cr="" x1lziwak="" x1vvkbs="" xtlvy1s="" x126k92a"=""><p dir="auto"><p style="text-align: center;"></p></p></div></p>
X-ALT-DESC;FMTTYPE=text/html:<h3></h3><h5><div x14z9mp="" xat24cr="" x1lziwak="" x1vvkbs="" x126k92a"=""><p dir="auto">POSTPONED -- Family Night Under the Stars</p><p dir="auto">Attention</p></div><div xat24cr="" x1lziwak="" x1vvkbs="" xtlvy1s="" x126k92a"=""><p dir="auto">Due to weather conditions, the 6th Annual Family Night Under the Stars, originally scheduled from Friday, April 10 through Saturday, April 11, has been postponed.</p></div><div xat24cr="" x1lziwak="" x1vvkbs="" xtlvy1s="" x126k92a"=""><p dir="auto">We will keep the community informed of the new date. Thank you for your patience.</p></div></h5><p><div xat24cr="" x1lziwak="" x1vvkbs="" xtlvy1s="" x126k92a"=""><p dir="auto"><p style="text-align: center;"></p></p></div></p>
LOCATION:
CLASS:PUBLIC
END:VEVENT
END:VCALENDAR
