BEGIN:VCALENDAR
VERSION:2.0
PRODID:Laredo, TX Calendar Creator
METHOD:PUBLISH
BEGIN:VEVENT
DTSTAMP:20260325T171342
DTSTART:20260409T090000
DTEND:20260409T100000
SUMMARY:Child Abuse and Neglect Prevention and Awareness Month Proclamation
DESCRIPTION:<p><strong>Child Abuse and Neglect Prevention and Awareness Month Proclamation</strong><br><strong>Date/Time:</strong> Thursday, April 9, 2026, at 9:00 AM<br><strong>Location:</strong>&nbsp;City Hall Council Chambers,&nbsp;1110 Houston St., Laredo, Texas 78040</p><p>&nbsp;</p><p>More details to follow.</p>
X-ALT-DESC;FMTTYPE=text/html:<p><strong>Child Abuse and Neglect Prevention and Awareness Month Proclamation</strong><br><strong>Date/Time:</strong> Thursday, April 9, 2026, at 9:00 AM<br><strong>Location:</strong>&nbsp;City Hall Council Chambers,&nbsp;1110 Houston St., Laredo, Texas 78040</p><p>&nbsp;</p><p>More details to follow.</p>
LOCATION:
CLASS:PUBLIC
END:VEVENT
END:VCALENDAR
