BEGIN:VCALENDAR
VERSION:2.0
PRODID:Laredo, TX Calendar Creator
METHOD:PUBLISH
BEGIN:VEVENT
DTSTAMP:20260331T091232
DTSTART:20260402T100000
DTEND:20260402T110000
SUMMARY:CDBG Week Proclamation - National Community Development Week
DESCRIPTION:<p><strong>Laredo, Texas</strong> – The City of Laredo and Mayor Dr. Victor D. Treviño proudly invite the community and members of the media to kick off National Community Development Week with an official proclamation ceremony on Thursday, April 2, 2026.</p><p>National Community Development Week, observed from April 6<sup>th</sup> through the 10<sup>th</sup>, 2026, is a time to recognize the impact of the Community Development Block Grant (CDBG) and HOME programs, which continue to strengthen neighborhoods and improve the quality of life for residents across Laredo. Through these programs, the City has supported vital initiatives addressing housing, infrastructure, and community development needs.</p><p>This year’s celebration will once again bring together residents, local leaders, program partners, and stakeholders to highlight the importance of continued investment in our community and to showcase the positive outcomes made possible through these programs.</p><p>The City of Laredo takes great pride in celebrating National Community Development Week and welcomes the community to take part in a series of special events designed to inform, engage, and uplift our residents.</p><p><b>WHO:&nbsp;&nbsp;&nbsp;&nbsp;&nbsp;&nbsp;&nbsp;&nbsp;&nbsp;&nbsp;&nbsp; </b>City of Laredo and Community Development Department</p><p><b>WHAT:&nbsp;&nbsp;&nbsp;&nbsp;&nbsp;&nbsp;&nbsp;&nbsp;&nbsp; </b>National Community Development Week Proclamation Ceremony</p><p><b>WHEN:&nbsp;&nbsp;&nbsp;&nbsp;&nbsp;&nbsp;&nbsp;&nbsp;&nbsp; </b>Thursday, April 2, 2026, starting at 9:00 a.m.</p><p><strong> <b>WHERE:&nbsp;&nbsp;&nbsp;&nbsp;&nbsp;&nbsp;&nbsp; </b></strong>City Hall Council Chambers, 1110 Houston St., Laredo, Texas 78040</p><p style="text-align: center;"></p>
X-ALT-DESC;FMTTYPE=text/html:<p><strong>Laredo, Texas</strong> – The City of Laredo and Mayor Dr. Victor D. Treviño proudly invite the community and members of the media to kick off National Community Development Week with an official proclamation ceremony on Thursday, April 2, 2026.</p><p>National Community Development Week, observed from April 6<sup>th</sup> through the 10<sup>th</sup>, 2026, is a time to recognize the impact of the Community Development Block Grant (CDBG) and HOME programs, which continue to strengthen neighborhoods and improve the quality of life for residents across Laredo. Through these programs, the City has supported vital initiatives addressing housing, infrastructure, and community development needs.</p><p>This year’s celebration will once again bring together residents, local leaders, program partners, and stakeholders to highlight the importance of continued investment in our community and to showcase the positive outcomes made possible through these programs.</p><p>The City of Laredo takes great pride in celebrating National Community Development Week and welcomes the community to take part in a series of special events designed to inform, engage, and uplift our residents.</p><p><b>WHO:&nbsp;&nbsp;&nbsp;&nbsp;&nbsp;&nbsp;&nbsp;&nbsp;&nbsp;&nbsp;&nbsp; </b>City of Laredo and Community Development Department</p><p><b>WHAT:&nbsp;&nbsp;&nbsp;&nbsp;&nbsp;&nbsp;&nbsp;&nbsp;&nbsp; </b>National Community Development Week Proclamation Ceremony</p><p><b>WHEN:&nbsp;&nbsp;&nbsp;&nbsp;&nbsp;&nbsp;&nbsp;&nbsp;&nbsp; </b>Thursday, April 2, 2026, starting at 9:00 a.m.</p><p><strong> <b>WHERE:&nbsp;&nbsp;&nbsp;&nbsp;&nbsp;&nbsp;&nbsp; </b></strong>City Hall Council Chambers, 1110 Houston St., Laredo, Texas 78040</p><p style="text-align: center;"></p>
LOCATION:
CLASS:PUBLIC
END:VEVENT
END:VCALENDAR
