BEGIN:VCALENDAR
VERSION:2.0
PRODID:Laredo, TX Calendar Creator
METHOD:PUBLISH
BEGIN:VEVENT
DTSTAMP:20260325T164612
DTSTART:20260411T080000
DTEND:20260411T120000
SUMMARY:Laredo's Wellness Obstacle Run
DESCRIPTION:<p><strong>Laredo's Wellness Obstacle Run</strong><br><strong>Date/Time:</strong> Saturday, April, 11 2026, at 8:00 AM<br><strong>Location:</strong> Buena Vista Sports Complex,<br>4709 Cuatro Vientos Rd., Laredo, Texas 78046</p><p style="text-align: center;"></p>
X-ALT-DESC;FMTTYPE=text/html:<p><strong>Laredo's Wellness Obstacle Run</strong><br><strong>Date/Time:</strong> Saturday, April, 11 2026, at 8:00 AM<br><strong>Location:</strong> Buena Vista Sports Complex,<br>4709 Cuatro Vientos Rd., Laredo, Texas 78046</p><p style="text-align: center;"></p>
LOCATION:
CLASS:PUBLIC
END:VEVENT
END:VCALENDAR
