BEGIN:VCALENDAR
VERSION:2.0
PRODID:Laredo, TX Calendar Creator
METHOD:PUBLISH
BEGIN:VEVENT
DTSTAMP:20260325T164427
DTSTART:20260402T160000
DTEND:20260402T190000
SUMMARY:Easter Egg Hunt in District 1
DESCRIPTION:<p><strong>Easter Egg Hunt</strong><br><strong>Date/Time:</strong> Thursday, April 2, 2026, from 4:00 PM to 7:00 PM<br><strong>Location:</strong> Independence Hills Park,&nbsp;<br>1102 N. Merida Dr., Laredo, Texas 78046</p><p style="text-align: center;">&nbsp;</p>
X-ALT-DESC;FMTTYPE=text/html:<p><strong>Easter Egg Hunt</strong><br><strong>Date/Time:</strong> Thursday, April 2, 2026, from 4:00 PM to 7:00 PM<br><strong>Location:</strong> Independence Hills Park,&nbsp;<br>1102 N. Merida Dr., Laredo, Texas 78046</p><p style="text-align: center;">&nbsp;</p>
LOCATION:
CLASS:PUBLIC
END:VEVENT
END:VCALENDAR
